BEGIN:VCALENDAR
VERSION:2.0
PRODID:-//ChamberMaster//Event Calendar 2.0//EN
METHOD:PUBLISH
X-PUBLISHED-TTL:P3D
REFRESH-INTERVAL:P3D
CALSCALE:GREGORIAN
BEGIN:VTIMEZONE
TZID:America/Los_Angeles
BEGIN:DAYLIGHT
RRULE:FREQ=YEARLY;BYMONTH=3;BYDAY=+2SU
DTSTART:20070101T000000
TZOFFSETFROM:-0800
TZOFFSETTO:-0700
TZNAME:Pacific Daylight Time
END:DAYLIGHT
BEGIN:STANDARD
RRULE:FREQ=YEARLY;BYMONTH=11;BYDAY=+1SU
DTSTART:20070101T000000
TZOFFSETFROM:-0700
TZOFFSETTO:-0800
TZNAME:Pacific Standard Time
END:STANDARD
END:VTIMEZONE
BEGIN:VEVENT
DTSTART;TZID=America/Los_Angeles:20210428T130000
DTEND;TZID=America/Los_Angeles:20210428T150000
X-MICROSOFT-CDO-ALLDAYEVENT:FALSE
SUMMARY:Air Sealing and Insulating Existing Homes: Ventilation Terminations and the Enclosure
DESCRIPTION:This two-hour course will help participants evaluate the impact of supply and exhaust vent terminations on the building enclosure. This session covers strategies for updating terminations to improve airtightness\, ventilation efficacy\, and building durability\, and highlights testing tools for assessing existing system performance and commission retrofit measures to maximize outcomes.
X-ALT-DESC;FMTTYPE=text/html:This two-hour course will help participants evaluate the impact of supply and exhaust vent terminations on the building enclosure. This session covers strategies for updating terminations to improve airtightness\, ventilation efficacy\, and building durability\, and highlights testing tools for assessing existing system performance and commission retrofit measures to maximize outcomes.
LOCATION:
UID:e.1112.328117
SEQUENCE:3
DTSTAMP:20210424T004654Z
URL:https://business.efficiencyfirstca.org/eventcalendar/Details/air-sealing-and-insulating-existing-homes-ventilation-terminations-and-the-enclosure-315203?sourceTypeId=Hub
END:VEVENT
END:VCALENDAR
