BEGIN:VCALENDAR
VERSION:2.0
PRODID:-//ChamberMaster//Event Calendar 2.0//EN
METHOD:PUBLISH
X-PUBLISHED-TTL:P3D
REFRESH-INTERVAL:P3D
CALSCALE:GREGORIAN
BEGIN:VTIMEZONE
TZID:America/Los_Angeles
BEGIN:DAYLIGHT
RRULE:FREQ=YEARLY;BYMONTH=3;BYDAY=+2SU
DTSTART:20070101T000000
TZOFFSETFROM:-0800
TZOFFSETTO:-0700
TZNAME:Pacific Daylight Time
END:DAYLIGHT
BEGIN:STANDARD
RRULE:FREQ=YEARLY;BYMONTH=11;BYDAY=+1SU
DTSTART:20070101T000000
TZOFFSETFROM:-0700
TZOFFSETTO:-0800
TZNAME:Pacific Standard Time
END:STANDARD
END:VTIMEZONE
BEGIN:VEVENT
DTSTART;TZID=America/Los_Angeles:20210429T090000
DTEND;TZID=America/Los_Angeles:20210429T110000
X-MICROSOFT-CDO-ALLDAYEVENT:FALSE
SUMMARY:Central Heat Pump Water Heating Systems for Multifamily Buildings
DESCRIPTION:Central Heat Pump Water Heating Systems for Multifamily BuildingsCentral heat pump water heating plug-and-play system for multifamily buildings are relatively new in the US marketplace. Designers\, contractors\, and facility managers have had little exposure to these systems\, but many state and local policies\, including several all-electric new construction reach codes\, are pushing for the implementation of clean water heating technology\, responding to concerns for the climate and the health of building occupants.  This session introduces the range of available products and presents the fundamental concepts related to how they work and interact with other systems in the building.  It also explains the key design and maintenance challenges associated with incorporation of this technology in a variety of multifamily building types (low\, medium\, and high rise). Learners will see several case studies and hear about accompanying lessons learned that optimize system functionality.  Participants will also learn about utility and other incentives available to implement this clean technology.  \nThe specific content of this course includes:     Review of state and local policies that encourage or require all-electric domestic water heating systems     Understanding the advantages of heat pump water heater systems for multifamily buildings     Delving into the economics of heat pump water heating systems and how they compare with traditional gas and electric resistance water heating systems (considering both first costs and operational costs)     Learning how to identify a good candidate project for a heat pump water heating system     Understanding key system configurations and design considerations\, such as: Refrigerants (temperature range\, global warming potential\, performance)\, Primary heating vs. temperature maintenance\, Single-pass vs multi-pass designs\, and Proper sizing to avoid cycling and other issues      Highlighting the characteristics of high-performance systems: Low global warming potential refrigerants\, COP~3\, and Exceptional energy efficiency     Reviewing maintenance routines that ensure optimal system performance     Becoming familiar with Ecotope's new sizing tool\, Ecosizer 1      Learning about available equipment\nREGISTER NOW
X-ALT-DESC;FMTTYPE=text/html:<!DOCTYPE html><html><head><title></title></head><body aria-disabled="false"><p>Central Heat Pump Water Heating Systems for Multifamily Buildings</p><p style='margin: 0px\; padding: 0px\; line-height: 24px\; font-size: 14.079999923706055px\; font-family: "Open Sans"\, sans-serif\; -webkit-font-smoothing: antialiased\; border: 0px\; vertical-align: baseline\; overflow-wrap: break-word\; word-break: break-word\; caret-color: rgb(51\, 51\, 51)\; color: rgb(51\, 51\, 51)\;'>Central heat pump water heating plug-and-play system for multifamily buildings are relatively new in the US marketplace. Designers\, contractors\, and facility managers have had little exposure to these systems\, but many state and local policies\, including several all-electric new construction reach codes\, are pushing for the implementation of clean water heating technology\, responding to concerns for the climate and the health of building occupants. &nbsp\;This session introduces the range of available products and presents the fundamental concepts related to how they work and interact with other systems in the building. &nbsp\;It also explains the key design and maintenance challenges associated with incorporation of this technology in a variety of multifamily building types (low\, medium\, and high rise). Learners will see several case studies and hear about accompanying lessons learned that optimize system functionality. &nbsp\;Participants will also learn about utility and other incentives available to implement this clean technology. &nbsp\;</p><p style='margin: 0px\; padding: 0px\; line-height: 24px\; font-size: 14.079999923706055px\; font-family: "Open Sans"\, sans-serif\; -webkit-font-smoothing: antialiased\; border: 0px\; vertical-align: baseline\; overflow-wrap: break-word\; word-break: break-word\; caret-color: rgb(51\, 51\, 51)\; color: rgb(51\, 51\, 51)\;'><span style="-webkit-font-smoothing: antialiased\; margin: 0px\; padding: 0px\; border: 0px\; vertical-align: baseline\; font-weight: 700\;"><br style="font-family: var(--ui-typography-family)\; -webkit-font-smoothing: antialiased\;"></span></p><p style='margin: 0px\; padding: 0px\; line-height: 24px\; font-size: 14.079999923706055px\; font-family: "Open Sans"\, sans-serif\; -webkit-font-smoothing: antialiased\; border: 0px\; vertical-align: baseline\; overflow-wrap: break-word\; word-break: break-word\; caret-color: rgb(51\, 51\, 51)\; color: rgb(51\, 51\, 51)\;'><span style="-webkit-font-smoothing: antialiased\; margin: 0px\; padding: 0px\; border: 0px\; vertical-align: baseline\; font-weight: 700\;">The specific content of this course includes:</span></p><p style='margin: 0px\; padding: 0px\; line-height: 24px\; font-size: 14.079999923706055px\; font-family: "Open Sans"\, sans-serif\; -webkit-font-smoothing: antialiased\; border: 0px\; vertical-align: baseline\; overflow-wrap: break-word\; word-break: break-word\; caret-color: rgb(51\, 51\, 51)\; color: rgb(51\, 51\, 51)\;'>&bull\;<span style="-webkit-font-smoothing: antialiased\; margin: 0px\; padding: 0px\; border: 0px\; vertical-align: baseline\; white-space: pre\;">&nbsp\; &nbsp\;&nbsp\;</span>Review of state and local policies that encourage or require all-electric domestic water heating systems</p><p style='margin: 0px\; padding: 0px\; line-height: 24px\; font-size: 14.079999923706055px\; font-family: "Open Sans"\, sans-serif\; -webkit-font-smoothing: antialiased\; border: 0px\; vertical-align: baseline\; overflow-wrap: break-word\; word-break: break-word\; caret-color: rgb(51\, 51\, 51)\; color: rgb(51\, 51\, 51)\;'>&bull\;<span style="-webkit-font-smoothing: antialiased\; margin: 0px\; padding: 0px\; border: 0px\; vertical-align: baseline\; white-space: pre\;">&nbsp\; &nbsp\;&nbsp\;</span>Understanding the advantages of heat pump water heater systems for multifamily buildings</p><p style='margin: 0px\; padding: 0px\; line-height: 24px\; font-size: 14.079999923706055px\; font-family: "Open Sans"\, sans-serif\; -webkit-font-smoothing: antialiased\; border: 0px\; vertical-align: baseline\; overflow-wrap: break-word\; word-break: break-word\; caret-color: rgb(51\, 51\, 51)\; color: rgb(51\, 51\, 51)\;'>&bull\;<span style="-webkit-font-smoothing: antialiased\; margin: 0px\; padding: 0px\; border: 0px\; vertical-align: baseline\; white-space: pre\;">&nbsp\; &nbsp\;&nbsp\;</span>Delving into the economics of heat pump water heating systems and how they compare with traditional gas and electric resistance water heating systems (considering both first costs and operational costs)</p><p style='margin: 0px\; padding: 0px\; line-height: 24px\; font-size: 14.079999923706055px\; font-family: "Open Sans"\, sans-serif\; -webkit-font-smoothing: antialiased\; border: 0px\; vertical-align: baseline\; overflow-wrap: break-word\; word-break: break-word\; caret-color: rgb(51\, 51\, 51)\; color: rgb(51\, 51\, 51)\;'>&bull\;<span style="-webkit-font-smoothing: antialiased\; margin: 0px\; padding: 0px\; border: 0px\; vertical-align: baseline\; white-space: pre\;">&nbsp\; &nbsp\;&nbsp\;</span>Learning how to identify a good candidate project for a heat pump water heating system</p><p style='margin: 0px\; padding: 0px\; line-height: 24px\; font-size: 14.079999923706055px\; font-family: "Open Sans"\, sans-serif\; -webkit-font-smoothing: antialiased\; border: 0px\; vertical-align: baseline\; overflow-wrap: break-word\; word-break: break-word\; caret-color: rgb(51\, 51\, 51)\; color: rgb(51\, 51\, 51)\;'>&bull\;<span style="-webkit-font-smoothing: antialiased\; margin: 0px\; padding: 0px\; border: 0px\; vertical-align: baseline\; white-space: pre\;">&nbsp\; &nbsp\;&nbsp\;</span>Understanding key system configurations and design considerations\, such as: Refrigerants (temperature range\, global warming potential\, performance)\, Primary heating vs. temperature maintenance\, Single-pass vs multi-pass designs\, and Proper sizing to avoid cycling and other issues&nbsp\;</p><p style='margin: 0px\; padding: 0px\; line-height: 24px\; font-size: 14.079999923706055px\; font-family: "Open Sans"\, sans-serif\; -webkit-font-smoothing: antialiased\; border: 0px\; vertical-align: baseline\; overflow-wrap: break-word\; word-break: break-word\; caret-color: rgb(51\, 51\, 51)\; color: rgb(51\, 51\, 51)\;'>&bull\;<span style="-webkit-font-smoothing: antialiased\; margin: 0px\; padding: 0px\; border: 0px\; vertical-align: baseline\; white-space: pre\;">&nbsp\; &nbsp\;&nbsp\;</span>Highlighting the characteristics of high-performance systems: Low global warming potential refrigerants\, COP~3\, and Exceptional energy efficiency</p><p style='margin: 0px\; padding: 0px\; line-height: 24px\; font-size: 14.079999923706055px\; font-family: "Open Sans"\, sans-serif\; -webkit-font-smoothing: antialiased\; border: 0px\; vertical-align: baseline\; overflow-wrap: break-word\; word-break: break-word\; caret-color: rgb(51\, 51\, 51)\; color: rgb(51\, 51\, 51)\;'>&bull\;<span style="-webkit-font-smoothing: antialiased\; margin: 0px\; padding: 0px\; border: 0px\; vertical-align: baseline\; white-space: pre\;">&nbsp\; &nbsp\;&nbsp\;</span>Reviewing maintenance routines that ensure optimal system performance</p><p style='margin: 0px\; padding: 0px\; line-height: 24px\; font-size: 14.079999923706055px\; font-family: "Open Sans"\, sans-serif\; -webkit-font-smoothing: antialiased\; border: 0px\; vertical-align: baseline\; overflow-wrap: break-word\; word-break: break-word\; caret-color: rgb(51\, 51\, 51)\; color: rgb(51\, 51\, 51)\;'>&bull\;<span style="-webkit-font-smoothing: antialiased\; margin: 0px\; padding: 0px\; border: 0px\; vertical-align: baseline\; white-space: pre\;">&nbsp\; &nbsp\;&nbsp\;</span>Becoming familiar with Ecotope&rsquo\;s new sizing tool\, Ecosizer 1&nbsp\;</p><p style='margin: 0px\; padding: 0px\; line-height: 24px\; font-size: 14.079999923706055px\; font-family: "Open Sans"\, sans-serif\; -webkit-font-smoothing: antialiased\; border: 0px\; vertical-align: baseline\; overflow-wrap: break-word\; word-break: break-word\; caret-color: rgb(51\, 51\, 51)\; color: rgb(51\, 51\, 51)\;'>&bull\;<span style="-webkit-font-smoothing: antialiased\; margin: 0px\; padding: 0px\; border: 0px\; vertical-align: baseline\; white-space: pre\;">&nbsp\; &nbsp\;&nbsp\;</span>Learning about available equipment</p><p style='margin: 0px\; padding: 0px\; line-height: 24px\; font-size: 14.079999923706055px\; font-family: "Open Sans"\, sans-serif\; -webkit-font-smoothing: antialiased\; border: 0px\; vertical-align: baseline\; overflow-wrap: break-word\; word-break: break-word\; caret-color: rgb(51\, 51\, 51)\; color: rgb(51\, 51\, 51)\;'><br></p><p style='margin: 0px\; padding: 0px\; line-height: 24px\; font-size: 14.079999923706055px\; font-family: "Open Sans"\, sans-serif\; -webkit-font-smoothing: antialiased\; border: 0px\; vertical-align: baseline\; overflow-wrap: break-word\; word-break: break-word\; caret-color: rgb(51\, 51\, 51)\; color: rgb(51\, 51\, 51)\;'><a fr-original-style="" href="https://pge.docebosaas.com/learn/course/external/view/webinar/822/central-heat-pump-water-heating-systems-for-multifamily-buildings" rel="noopener noreferrer" style="-webkit-user-select: auto\;" target="_blank">REGISTER NOW</a></p></body></html>
LOCATION:
UID:e.1112.342530
SEQUENCE:3
DTSTAMP:20210424T004658Z
URL:https://business.efficiencyfirstca.org/eventcalendar/Details/central-heat-pump-water-heating-systems-for-multifamily-buildings-331830?sourceTypeId=Hub
END:VEVENT
END:VCALENDAR
