BEGIN:VCALENDAR
VERSION:2.0
PRODID:-//ChamberMaster//Event Calendar 2.0//EN
METHOD:PUBLISH
X-PUBLISHED-TTL:P3D
REFRESH-INTERVAL:P3D
CALSCALE:GREGORIAN
BEGIN:VTIMEZONE
TZID:America/Los_Angeles
BEGIN:DAYLIGHT
RRULE:FREQ=YEARLY;BYMONTH=3;BYDAY=+2SU
DTSTART:20070101T000000
TZOFFSETFROM:-0800
TZOFFSETTO:-0700
TZNAME:Pacific Daylight Time
END:DAYLIGHT
BEGIN:STANDARD
RRULE:FREQ=YEARLY;BYMONTH=11;BYDAY=+1SU
DTSTART:20070101T000000
TZOFFSETFROM:-0700
TZOFFSETTO:-0800
TZNAME:Pacific Standard Time
END:STANDARD
END:VTIMEZONE
BEGIN:VEVENT
DTSTART;TZID=America/Los_Angeles:20210421T090000
DTEND;TZID=America/Los_Angeles:20210421T110000
X-MICROSOFT-CDO-ALLDAYEVENT:FALSE
SUMMARY:How to Design and Build High-Performance Attics
DESCRIPTION:Steve Easley will use pictures from real-world installations to illustrate the do’s and don’ts of building affordable high-performance attics and roof assemblies. This class evaluates insulation systems options to best match the building type and energy code requirements for ensuring actual insulation performance.
X-ALT-DESC;FMTTYPE=text/html:Steve Easley will use pictures from real-world installations to illustrate the do’s and don’ts of building affordable high-performance attics and roof assemblies. This class evaluates insulation systems options to best match the building type and energy code requirements for ensuring actual insulation performance.
LOCATION:
UID:e.1112.328059
SEQUENCE:3
DTSTAMP:20210424T004701Z
URL:https://business.efficiencyfirstca.org/eventcalendar/Details/how-to-design-and-build-high-performance-attics-315145?sourceTypeId=Hub
END:VEVENT
END:VCALENDAR
